BEGIN:VCALENDAR
VERSION:2.0
PRODID:-//April Dunnam - ECPv6.15.15//NONSGML v1.0//EN
CALSCALE:GREGORIAN
METHOD:PUBLISH
X-ORIGINAL-URL:https://aprildunnam.com
X-WR-CALDESC:Events for April Dunnam
REFRESH-INTERVAL;VALUE=DURATION:PT1H
X-Robots-Tag:noindex
X-PUBLISHED-TTL:PT1H
BEGIN:VTIMEZONE
TZID:America/Chicago
BEGIN:DAYLIGHT
TZOFFSETFROM:-0600
TZOFFSETTO:-0500
TZNAME:CDT
DTSTART:20250309T080000
END:DAYLIGHT
BEGIN:STANDARD
TZOFFSETFROM:-0500
TZOFFSETTO:-0600
TZNAME:CST
DTSTART:20251102T070000
END:STANDARD
BEGIN:DAYLIGHT
TZOFFSETFROM:-0600
TZOFFSETTO:-0500
TZNAME:CDT
DTSTART:20260308T080000
END:DAYLIGHT
BEGIN:STANDARD
TZOFFSETFROM:-0500
TZOFFSETTO:-0600
TZNAME:CST
DTSTART:20261101T070000
END:STANDARD
BEGIN:DAYLIGHT
TZOFFSETFROM:-0600
TZOFFSETTO:-0500
TZNAME:CDT
DTSTART:20270314T080000
END:DAYLIGHT
BEGIN:STANDARD
TZOFFSETFROM:-0500
TZOFFSETTO:-0600
TZNAME:CST
DTSTART:20271107T070000
END:STANDARD
END:VTIMEZONE
BEGIN:VEVENT
DTSTART;TZID=America/Chicago:20260203T100000
DTEND;TZID=America/Chicago:20260203T110000
DTSTAMP:20260419T134809
CREATED:20260202T180345Z
LAST-MODIFIED:20260202T180345Z
UID:1493-1770112800-1770116400@aprildunnam.com
SUMMARY:Microsoft 365 & Power Platform Product Updates Call
DESCRIPTION:I’ll be doing a demo on document generation in Copilot Studio
URL:https://aprildunnam.com/event/microsoft-365-power-platform-product-updates-call/
END:VEVENT
BEGIN:VEVENT
DTSTART;VALUE=DATE:20260224
DTEND;VALUE=DATE:20260225
DTSTAMP:20260419T134809
CREATED:20260202T170208Z
LAST-MODIFIED:20260202T170405Z
UID:1469-1771891200-1771977599@aprildunnam.com
SUMMARY:Microsoft AI Tour London
DESCRIPTION:
URL:https://aprildunnam.com/event/microsoft-ai-tour-london/
LOCATION:ExCeL\, 1 Western Gateway\, Royal Victoria Dock\, London\, United Kingdom
END:VEVENT
END:VCALENDAR